BEGIN:VCALENDAR
VERSION:2.0
PRODID:-//wp-events-plugin.com//7.2.3.1//EN
BEGIN:VEVENT
UID:13-43@appalachianohio.org
DTSTART:20250909T235900Z
DTEND:20250909T235900Z
DTSTAMP:20250730T203432Z
URL:https://appalachianohio.org/nelsonville/events/deadline-for-nelsonvill
 e-community-foundation-grant-applications/
SUMMARY:Deadline for Nelsonville Community Foundation grant applications
DESCRIPTION:The Nelsonville Community Foundation\, with the support of its 
 donors and in partnership with the Foundation for Appalachian Ohio and the
  Osteopathic Heritage Foundation\, is accepting grant applications through
  Tuesday\, Sept. 9\, from nonprofits\, schools and public organizations fo
 r projects and programs benefiting the people of Nelsonville and the surro
 unding communities of Buchtel\, Carbon Hill and Murray City. Learn more an
 d apply here.
END:VEVENT
END:VCALENDAR